BEGIN:VCALENDAR
VERSION:2.0
PRODID:SchoolNow
CALSCALE:GREGORIAN
BEGIN:VEVENT
UID:bff6b790-24ad-11f1-973c-0a58a9feac02
DTSTAMP:20260421T090012Z
SUMMARY:No School Labor Day
URL;VALUE=URI:https://www.wenatcheeschools.org/wa/calendar/8933402/no-schoo
 l-labor-day
DTSTART;VALUE=DATE:20260907
DTEND;VALUE=DATE:20260908
END:VEVENT
END:VCALENDAR
