BEGIN:VCALENDAR
VERSION:2.0
PRODID:SchoolNow
CALSCALE:GREGORIAN
BEGIN:VEVENT
UID:bff6d66c-24ad-11f1-9144-0a58a9feac02
DTSTAMP:20260421T090012Z
SUMMARY:Early Release PD Day
URL;VALUE=URI:https://www.wenatcheeschools.org/wa/calendar/8933403/early-re
 lease-pd-day
DTSTART:20261007T144500Z
DTEND:20261007T183000Z
END:VEVENT
END:VCALENDAR
