BEGIN:VCALENDAR
VERSION:2.0
PRODID:SchoolNow
CALSCALE:GREGORIAN
BEGIN:VEVENT
UID:bff6d7f2-24ad-11f1-a5e7-0a58a9feac02
DTSTAMP:20260421T150512Z
SUMMARY:No School Spring Conferences
URL;VALUE=URI:https://www.wenatcheeschools.org/wa/calendar/8933404/no-schoo
 l-spring-conferences
DTSTART;VALUE=DATE:20270305
DTEND;VALUE=DATE:20270306
END:VEVENT
END:VCALENDAR
