BEGIN:VCALENDAR
VERSION:2.0
PRODID:SchoolNow
CALSCALE:GREGORIAN
BEGIN:VEVENT
UID:bff6d914-24ad-11f1-b066-0a58a9feac02
DTSTAMP:20260421T090012Z
SUMMARY:No School Fall Conferences
URL;VALUE=URI:https://www.wenatcheeschools.org/wa/calendar/8933405/no-schoo
 l-fall-conferences
DTSTART;VALUE=DATE:20261028
DTEND;VALUE=DATE:20261031
END:VEVENT
END:VCALENDAR
