BEGIN:VCALENDAR
VERSION:2.0
PRODID:SchoolNow
CALSCALE:GREGORIAN
BEGIN:VEVENT
UID:bff6da36-24ad-11f1-bd78-0a58a9feac02
DTSTAMP:20260421T090012Z
SUMMARY:No School Thanksgiving Break
URL;VALUE=URI:https://www.wenatcheeschools.org/wa/calendar/8933406/no-schoo
 l-thanksgiving-break
DTSTART;VALUE=DATE:20261125
DTEND;VALUE=DATE:20261128
END:VEVENT
END:VCALENDAR
