BEGIN:VCALENDAR
VERSION:2.0
PRODID:SchoolNow
CALSCALE:GREGORIAN
BEGIN:VEVENT
UID:bff6dc5c-24ad-11f1-9ac3-0a58a9feac02
DTSTAMP:20260421T090012Z
SUMMARY:No School Veterans' Day
URL;VALUE=URI:https://www.wenatcheeschools.org/wa/calendar/8933407/no-schoo
 l-veterans-day
DTSTART;VALUE=DATE:20261111
DTEND;VALUE=DATE:20261112
END:VEVENT
END:VCALENDAR
