BEGIN:VCALENDAR
VERSION:2.0
PRODID:SchoolNow
CALSCALE:GREGORIAN
BEGIN:VEVENT
UID:bff6de82-24ad-11f1-9f7a-0a58a9feac02
DTSTAMP:20260421T150511Z
SUMMARY:No School Mid-Winter Break
URL;VALUE=URI:https://www.wenatcheeschools.org/wa/calendar/8933409/no-schoo
 l-mid-winter-break
DTSTART;VALUE=DATE:20270216
DTEND;VALUE=DATE:20270217
END:VEVENT
END:VCALENDAR
