BEGIN:VCALENDAR
VERSION:2.0
PRODID:SchoolNow
CALSCALE:GREGORIAN
BEGIN:VEVENT
UID:bff6df90-24ad-11f1-b198-0a58a9feac02
DTSTAMP:20260421T090012Z
SUMMARY:No School Winter Break
URL;VALUE=URI:https://www.wenatcheeschools.org/wa/calendar/8933410/no-schoo
 l-winter-break
DTSTART;VALUE=DATE:20261221
DTEND;VALUE=DATE:20261226
END:VEVENT
END:VCALENDAR
