BEGIN:VCALENDAR
VERSION:2.0
PRODID:SchoolNow
CALSCALE:GREGORIAN
BEGIN:VEVENT
UID:bff6e080-24ad-11f1-aa3e-0a58a9feac02
DTSTAMP:20260421T150511Z
SUMMARY:No School Presidents Day
URL;VALUE=URI:https://www.wenatcheeschools.org/wa/calendar/8933411/no-schoo
 l-presidents-day
DTSTART;VALUE=DATE:20270215
DTEND;VALUE=DATE:20270216
END:VEVENT
END:VCALENDAR
