BEGIN:VCALENDAR
VERSION:2.0
PRODID:SchoolNow
CALSCALE:GREGORIAN
BEGIN:VEVENT
UID:bff6e17a-24ad-11f1-83ff-0a58a9feac02
DTSTAMP:20260421T090012Z
SUMMARY:Early Release PD Day
URL;VALUE=URI:https://www.wenatcheeschools.org/wa/calendar/8933412/early-re
 lease-pd-day
DTSTART:20261202T154500Z
DTEND:20261202T193000Z
END:VEVENT
END:VCALENDAR
