BEGIN:VCALENDAR
VERSION:2.0
PRODID:SchoolNow
CALSCALE:GREGORIAN
BEGIN:VEVENT
UID:bff6e260-24ad-11f1-9d63-0a58a9feac02
DTSTAMP:20260421T150512Z
SUMMARY:Early Release PD Day
URL;VALUE=URI:https://www.wenatcheeschools.org/wa/calendar/8933413/early-re
 lease-pd-day
DTSTART:20270317T144500Z
DTEND:20270317T183000Z
END:VEVENT
END:VCALENDAR
