BEGIN:VCALENDAR
VERSION:2.0
PRODID:SchoolNow
CALSCALE:GREGORIAN
BEGIN:VEVENT
UID:bff6e364-24ad-11f1-8208-0a58a9feac02
DTSTAMP:20260421T211009Z
SUMMARY:Snow Make Up Days (if needed)
URL;VALUE=URI:https://www.wenatcheeschools.org/wa/calendar/8933414/snow-mak
 e-up-days-if-needed
DTSTART;VALUE=DATE:20270614
DTEND;VALUE=DATE:20270616
END:VEVENT
END:VCALENDAR
