BEGIN:VCALENDAR
VERSION:2.0
PRODID:SchoolNow
CALSCALE:GREGORIAN
BEGIN:VEVENT
UID:bff6e44a-24ad-11f1-b848-0a58a9feac02
DTSTAMP:20260421T211009Z
SUMMARY:Early Release - Last Day of School
URL;VALUE=URI:https://www.wenatcheeschools.org/wa/calendar/8933415/early-re
 lease-last-day-of-school
DTSTART:20270611T144500Z
DTEND:20270611T183000Z
END:VEVENT
END:VCALENDAR
