BEGIN:VCALENDAR
VERSION:2.0
PRODID:SchoolNow
CALSCALE:GREGORIAN
BEGIN:VEVENT
UID:bff6e5e4-24ad-11f1-8c68-0a58a9feac02
DTSTAMP:20260421T150511Z
SUMMARY:Early Release PD Day
URL;VALUE=URI:https://www.wenatcheeschools.org/wa/calendar/8933416/early-re
 lease-pd-day
DTSTART:20270421T144500Z
DTEND:20270421T183000Z
END:VEVENT
END:VCALENDAR
