BEGIN:VCALENDAR
VERSION:2.0
PRODID:SchoolNow
CALSCALE:GREGORIAN
BEGIN:VEVENT
UID:bff6e71a-24ad-11f1-b4e8-0a58a9feac02
DTSTAMP:20260421T150511Z
SUMMARY:No School MLK
URL;VALUE=URI:https://www.wenatcheeschools.org/wa/calendar/8933417/no-schoo
 l-mlk
DTSTART;VALUE=DATE:20270118
DTEND;VALUE=DATE:20270119
END:VEVENT
END:VCALENDAR
