BEGIN:VCALENDAR
VERSION:2.0
PRODID:SchoolNow
CALSCALE:GREGORIAN
BEGIN:VEVENT
UID:bff6e8d2-24ad-11f1-9b86-0a58a9feac02
DTSTAMP:20260421T211009Z
SUMMARY:No School Memorial Day
URL;VALUE=URI:https://www.wenatcheeschools.org/wa/calendar/8933418/no-schoo
 l-memorial-day
DTSTART;VALUE=DATE:20270531
DTEND;VALUE=DATE:20270601
END:VEVENT
END:VCALENDAR
