BEGIN:VCALENDAR
VERSION:2.0
PRODID:SchoolNow
CALSCALE:GREGORIAN
BEGIN:VEVENT
UID:bff6eb84-24ad-11f1-8c8b-0a58a9feac02
DTSTAMP:20260421T150511Z
SUMMARY:No School Spring Break
URL;VALUE=URI:https://www.wenatcheeschools.org/wa/calendar/8933419/no-schoo
 l-spring-break
DTSTART;VALUE=DATE:20270405
DTEND;VALUE=DATE:20270410
END:VEVENT
END:VCALENDAR
