BEGIN:VCALENDAR
VERSION:2.0
PRODID:SchoolNow
CALSCALE:GREGORIAN
BEGIN:VEVENT
UID:bff6ed00-24ad-11f1-8ece-0a58a9feac02
DTSTAMP:20260421T150511Z
SUMMARY:No School Mid-Winter Break
URL;VALUE=URI:https://www.wenatcheeschools.org/wa/calendar/8933420/no-schoo
 l-mid-winter-break
DTSTART;VALUE=DATE:20270211
DTEND;VALUE=DATE:20270213
END:VEVENT
END:VCALENDAR
