BEGIN:VCALENDAR
VERSION:2.0
PRODID:SchoolNow
CALSCALE:GREGORIAN
BEGIN:VEVENT
UID:bff6ee4a-24ad-11f1-90a8-0a58a9feac02
DTSTAMP:20260421T211009Z
SUMMARY:No School Non-Contract Day
URL;VALUE=URI:https://www.wenatcheeschools.org/wa/calendar/8933421/no-schoo
 l-non-contract-day
DTSTART;VALUE=DATE:20270528
DTEND;VALUE=DATE:20270529
END:VEVENT
END:VCALENDAR
