BEGIN:VCALENDAR
VERSION:2.0
PRODID:SchoolNow
CALSCALE:GREGORIAN
BEGIN:VEVENT
UID:bff6ef8a-24ad-11f1-990b-0a58a9feac02
DTSTAMP:20260421T150511Z
SUMMARY:No School Records Day
URL;VALUE=URI:https://www.wenatcheeschools.org/wa/calendar/8933422/no-schoo
 l-records-day
DTSTART;VALUE=DATE:20270119
DTEND;VALUE=DATE:20270120
END:VEVENT
END:VCALENDAR
