BEGIN:VCALENDAR
VERSION:2.0
PRODID:SchoolNow
CALSCALE:GREGORIAN
BEGIN:VEVENT
UID:a45483f4-26de-11f1-aa09-0a58a9feac02
DTSTAMP:20260420T205010Z
SUMMARY:3rd Gr. Artlink Presentation
LOCATION:Cafeteria
URL;VALUE=URI:https://www.wenatcheeschools.org/wa/calendar/8939526/3rd-gr-a
 rtlink-presentation
DTSTART:20260402T155000Z
DTEND:20260402T164500Z
END:VEVENT
END:VCALENDAR
