BEGIN:VCALENDAR
VERSION:2.0
PRODID:SchoolNow
CALSCALE:GREGORIAN
BEGIN:VEVENT
UID:7a5b9046-2a0e-11f1-bef1-0e174cf5a6df
DTSTAMP:20260421T025509Z
SUMMARY:All City Track Meet
LOCATION:WHS Track
URL;VALUE=URI:https://www.wenatcheeschools.org/wa/calendar/8950180/all-city
 -track-meet
DTSTART:20260521T220000Z
DTEND:20260522T010000Z
END:VEVENT
END:VCALENDAR
