BEGIN:VCALENDAR
VERSION:2.0
PRODID:SchoolNow
CALSCALE:GREGORIAN
BEGIN:VEVENT
UID:5e66df7a-2c3f-11f1-aab0-0a58a9feac02
DTSTAMP:20260420T205010Z
SUMMARY:Math is Cool 4th/5th  Gr
URL;VALUE=URI:https://www.wenatcheeschools.org/wa/calendar/8957261/math-is-
 cool-4th-5th-gr
DTSTART:20260414T213000Z
DTEND:20260414T223000Z
END:VEVENT
END:VCALENDAR
