BEGIN:VCALENDAR
VERSION:2.0
PRODID:SchoolNow
CALSCALE:GREGORIAN
BEGIN:VEVENT
UID:5e670090-2c3f-11f1-951a-0a58a9feac02
DTSTAMP:20260421T025509Z
SUMMARY:Math is Cool 4th/5th  Gr
URL;VALUE=URI:https://www.wenatcheeschools.org/wa/calendar/8957262/math-is-
 cool-4th-5th-gr
DTSTART:20260505T213000Z
DTEND:20260505T223000Z
END:VEVENT
END:VCALENDAR
