BEGIN:VCALENDAR
VERSION:2.0
PRODID:SchoolNow
CALSCALE:GREGORIAN
BEGIN:VEVENT
UID:5e670644-2c3f-11f1-9043-0a58a9feac02
DTSTAMP:20260421T025509Z
SUMMARY:Math is Cool State Competition 4th/5th Gr
LOCATION:Moses Lake
URL;VALUE=URI:https://www.wenatcheeschools.org/wa/calendar/8957264/math-is-
 cool-state-competition-4th-5th-gr
DTSTART;VALUE=DATE:20260516
DTEND;VALUE=DATE:20260517
END:VEVENT
END:VCALENDAR
