BEGIN:VCALENDAR
VERSION:2.0
PRODID:SchoolNow
CALSCALE:GREGORIAN
BEGIN:VEVENT
UID:5e670770-2c3f-11f1-9c87-0a58a9feac02
DTSTAMP:20260420T205010Z
SUMMARY:Math is Cool 4th/5th  Gr
URL;VALUE=URI:https://www.wenatcheeschools.org/wa/calendar/8957265/math-is-
 cool-4th-5th-gr
DTSTART:20260428T213000Z
DTEND:20260428T223000Z
END:VEVENT
END:VCALENDAR
