BEGIN:VCALENDAR
VERSION:2.0
PRODID:SchoolNow
CALSCALE:GREGORIAN
BEGIN:VEVENT
UID:5e67089c-2c3f-11f1-bce0-0a58a9feac02
DTSTAMP:20260421T025509Z
SUMMARY:Math is Cool 5th GR ONLY
LOCATION:Rm 1720
URL;VALUE=URI:https://www.wenatcheeschools.org/wa/calendar/8957266/math-is-
 cool-5th-gr-only
DTSTART:20260331T213000Z
DTEND:20260331T223000Z
END:VEVENT
END:VCALENDAR
