BEGIN:VCALENDAR
VERSION:2.0
PRODID:SchoolNow
CALSCALE:GREGORIAN
BEGIN:VEVENT
UID:5e670bda-2c3f-11f1-80fb-0a58a9feac02
DTSTAMP:20260420T205010Z
SUMMARY:Math is Cool 4th/5th  Gr
URL;VALUE=URI:https://www.wenatcheeschools.org/wa/calendar/8957267/math-is-
 cool-4th-5th-gr
DTSTART:20260421T213000Z
DTEND:20260421T223000Z
END:VEVENT
END:VCALENDAR
