BEGIN:VCALENDAR
VERSION:2.0
PRODID:SchoolNow
CALSCALE:GREGORIAN
BEGIN:VEVENT
UID:4f2a68b4-2d71-11f1-8944-0a58a9feac02
DTSTAMP:20260421T025509Z
SUMMARY:Panda Express Patrol Fundraiser
URL;VALUE=URI:https://www.wenatcheeschools.org/wa/calendar/8961602/panda-ex
 press-patrol-fundraiser
DTSTART;VALUE=DATE:20260501
DTEND;VALUE=DATE:20260502
END:VEVENT
END:VCALENDAR
