BEGIN:VCALENDAR
VERSION:2.0
PRODID:SchoolNow
CALSCALE:GREGORIAN
BEGIN:VEVENT
UID:4f516ad6-2d71-11f1-84bc-0a58a9feac02
DTSTAMP:20260420T205010Z
SUMMARY:Track Practice (3rd\, 4th\, 5th Gr)
LOCATION:Gym
URL;VALUE=URI:https://www.wenatcheeschools.org/wa/calendar/8961605/track-pr
 actice-3rd-4th-5th-gr
DTSTART:20260428T213000Z
DTEND:20260428T223000Z
END:VEVENT
END:VCALENDAR
