BEGIN:VCALENDAR
VERSION:2.0
PRODID:SchoolNow
CALSCALE:GREGORIAN
BEGIN:VEVENT
UID:4f516e1e-2d71-11f1-aa8c-0a58a9feac02
DTSTAMP:20260421T025509Z
SUMMARY:Track Practice (3rd\, 4th\, 5th Gr)
LOCATION:Gym
URL;VALUE=URI:https://www.wenatcheeschools.org/wa/calendar/8961608/track-pr
 actice-3rd-4th-5th-gr
DTSTART:20260519T213000Z
DTEND:20260519T223000Z
END:VEVENT
END:VCALENDAR
