BEGIN:VCALENDAR
VERSION:2.0
PRODID:SchoolNow
CALSCALE:GREGORIAN
BEGIN:VEVENT
UID:a4378968-3a96-11f1-80a0-0affdb664f4f
DTSTAMP:20260421T025509Z
SUMMARY:5th Gr End of Year Assembly
LOCATION:Cafeteria
URL;VALUE=URI:https://www.wenatcheeschools.org/wa/calendar/9001018/5th-gr-e
 nd-of-year-assembly
DTSTART:20260610T150000Z
DTEND:20260610T160000Z
END:VEVENT
END:VCALENDAR
