BEGIN:VCALENDAR
VERSION:2.0
PRODID:SchoolNow
CALSCALE:GREGORIAN
BEGIN:VEVENT
UID:29a279c6-d559-11f0-8484-0e348d491adf
DTSTAMP:20260424T115508Z
SUMMARY:V Boys Wrestling @ Cascade
URL;VALUE=URI:https://www.wenatcheeschools.org/whs/athletics/calendar/88208
 69/v-boys-wrestling-cascade
DTSTART:20260103T180000Z
DTEND:20260104T010000Z
END:VEVENT
END:VCALENDAR
