BEGIN:VCALENDAR
VERSION:2.0
PRODID:SchoolNow
CALSCALE:GREGORIAN
BEGIN:VEVENT
UID:29a27ebc-d559-11f0-8f5c-0e348d491adf
DTSTAMP:20260424T115508Z
SUMMARY:V Boys Wrestling @ Eastmont
URL;VALUE=URI:https://www.wenatcheeschools.org/whs/athletics/calendar/88208
 73/v-boys-wrestling-eastmont
DTSTART:20251230T170000Z
DTEND:20251230T230000Z
END:VEVENT
END:VCALENDAR
