BEGIN:VCALENDAR
VERSION:2.0
PRODID:SchoolNow
CALSCALE:GREGORIAN
BEGIN:VEVENT
UID:29a28a1a-d559-11f0-9ca3-0e348d491adf
DTSTAMP:20260424T115508Z
SUMMARY:V Girls Wrestling @ Royal HS
URL;VALUE=URI:https://www.wenatcheeschools.org/whs/athletics/calendar/88208
 83/v-girls-wrestling-royal-hs
DTSTART;VALUE=DATE:20260102
DTEND;VALUE=DATE:20260103
END:VEVENT
END:VCALENDAR
