BEGIN:VCALENDAR
VERSION:2.0
PRODID:SchoolNow
CALSCALE:GREGORIAN
BEGIN:VEVENT
UID:29a29352-d559-11f0-80ce-0e348d491adf
DTSTAMP:20260424T115508Z
SUMMARY:V Girls Wrestling @ Rogers HS (Spokane)
URL;VALUE=URI:https://www.wenatcheeschools.org/whs/athletics/calendar/88208
 91/v-girls-wrestling-rogers-hs-spokane
DTSTART:20260103T170000Z
DTEND:20260104T000000Z
END:VEVENT
END:VCALENDAR
