BEGIN:VCALENDAR
VERSION:2.0
PRODID:SchoolNow
CALSCALE:GREGORIAN
BEGIN:VEVENT
UID:15c25054-d6f1-11f0-910a-0a58a9feac02
DTSTAMP:20260424T115508Z
SUMMARY:Unified Basketball @ Moses Lake
URL;VALUE=URI:https://www.wenatcheeschools.org/whs/athletics/calendar/88226
 05/unified-basketball-moses-lake
DTSTART:20260108T000000Z
DTEND:20260108T010000Z
END:VEVENT
END:VCALENDAR
