BEGIN:VCALENDAR
VERSION:2.0
PRODID:SchoolNow
CALSCALE:GREGORIAN
BEGIN:VEVENT
UID:15c25b30-d6f1-11f0-8937-0a58a9feac02
DTSTAMP:20260424T115508Z
SUMMARY:JV/V Boys Wrestling VS Moses Lake
URL;VALUE=URI:https://www.wenatcheeschools.org/whs/athletics/calendar/88226
 06/jv-v-boys-wrestling-vs-moses-lake
DTSTART:20260116T020000Z
DTEND:20260116T050000Z
END:VEVENT
END:VCALENDAR
