BEGIN:VCALENDAR
VERSION:2.0
PRODID:SchoolNow
CALSCALE:GREGORIAN
BEGIN:VEVENT
UID:15c25d60-d6f1-11f0-ad1d-0a58a9feac02
DTSTAMP:20260424T115508Z
SUMMARY:Boys Swim @ Kentridge HS
URL;VALUE=URI:https://www.wenatcheeschools.org/whs/athletics/calendar/88226
 07/boys-swim-kentridge-hs
DTSTART:20260110T170000Z
DTEND:20260110T220000Z
END:VEVENT
END:VCALENDAR
