BEGIN:VCALENDAR
VERSION:2.0
PRODID:SchoolNow
CALSCALE:GREGORIAN
BEGIN:VEVENT
UID:15c25e78-d6f1-11f0-ae79-0a58a9feac02
DTSTAMP:20260424T115508Z
SUMMARY:V Boys Wrestling @ Marysville-Pilchuck HS
URL;VALUE=URI:https://www.wenatcheeschools.org/whs/athletics/calendar/88226
 08/v-boys-wrestling-marysville-pilchuck-hs
DTSTART:20260117T173000Z
DTEND:20260118T013000Z
END:VEVENT
END:VCALENDAR
