BEGIN:VCALENDAR
VERSION:2.0
PRODID:SchoolNow
CALSCALE:GREGORIAN
BEGIN:VEVENT
UID:15c25f90-d6f1-11f0-b4e7-0a58a9feac02
DTSTAMP:20260424T115508Z
SUMMARY:Boys Swimming VS AC Davis
URL;VALUE=URI:https://www.wenatcheeschools.org/whs/athletics/calendar/88226
 09/boys-swimming-vs-ac-davis
DTSTART:20260116T200000Z
DTEND:20260116T230000Z
END:VEVENT
END:VCALENDAR
