BEGIN:VCALENDAR
VERSION:2.0
PRODID:SchoolNow
CALSCALE:GREGORIAN
BEGIN:VEVENT
UID:15c26080-d6f1-11f0-8ae8-0a58a9feac02
DTSTAMP:20260424T115508Z
SUMMARY:D/C/JV/V Boys Basketball @ Eastmont
URL;VALUE=URI:https://www.wenatcheeschools.org/whs/athletics/calendar/88226
 10/d-c-jv-v-boys-basketball-eastmont
DTSTART:20260117T230000Z
DTEND:20260118T033000Z
END:VEVENT
END:VCALENDAR
