BEGIN:VCALENDAR
VERSION:2.0
PRODID:SchoolNow
CALSCALE:GREGORIAN
BEGIN:VEVENT
UID:15c2618e-d6f1-11f0-ae37-0a58a9feac02
DTSTAMP:20260424T115508Z
SUMMARY:D/C/JV/V Boys Basketball VS West Valley
URL;VALUE=URI:https://www.wenatcheeschools.org/whs/athletics/calendar/88226
 11/d-c-jv-v-boys-basketball-vs-west-valley
DTSTART:20260117T000000Z
DTEND:20260117T040000Z
END:VEVENT
END:VCALENDAR
