BEGIN:VCALENDAR
VERSION:2.0
PRODID:SchoolNow
CALSCALE:GREGORIAN
BEGIN:VEVENT
UID:15c2627e-d6f1-11f0-9393-0a58a9feac02
DTSTAMP:20260424T115508Z
SUMMARY:Unified Basketball VS Quincy
URL;VALUE=URI:https://www.wenatcheeschools.org/whs/athletics/calendar/88226
 12/unified-basketball-vs-quincy
DTSTART:20260115T013000Z
DTEND:20260115T023000Z
END:VEVENT
END:VCALENDAR
