BEGIN:VCALENDAR
VERSION:2.0
PRODID:SchoolNow
CALSCALE:GREGORIAN
BEGIN:VEVENT
UID:15c263a0-d6f1-11f0-a66e-0a58a9feac02
DTSTAMP:20260424T115508Z
SUMMARY:C/JV/V Girls Basketball VS Othello
URL;VALUE=URI:https://www.wenatcheeschools.org/whs/athletics/calendar/88226
 13/c-jv-v-girls-basketball-vs-othello
DTSTART:20260114T000000Z
DTEND:20260114T040000Z
END:VEVENT
END:VCALENDAR
