BEGIN:VCALENDAR
VERSION:2.0
PRODID:SchoolNow
CALSCALE:GREGORIAN
BEGIN:VEVENT
UID:15c264ea-d6f1-11f0-82ee-0a58a9feac02
DTSTAMP:20260424T115508Z
SUMMARY:C/JV/V Girls Basketball VS West Valley
URL;VALUE=URI:https://www.wenatcheeschools.org/whs/athletics/calendar/88226
 14/c-jv-v-girls-basketball-vs-west-valley
DTSTART:20260117T000000Z
DTEND:20260117T040000Z
END:VEVENT
END:VCALENDAR
