BEGIN:VCALENDAR
VERSION:2.0
PRODID:SchoolNow
CALSCALE:GREGORIAN
BEGIN:VEVENT
UID:15c265f8-d6f1-11f0-8abc-0a58a9feac02
DTSTAMP:20260424T115508Z
SUMMARY:Bowling VS Moses Lake
URL;VALUE=URI:https://www.wenatcheeschools.org/whs/athletics/calendar/88226
 15/bowling-vs-moses-lake
DTSTART:20260106T220000Z
DTEND:20260107T010000Z
END:VEVENT
END:VCALENDAR
