BEGIN:VCALENDAR
VERSION:2.0
PRODID:SchoolNow
CALSCALE:GREGORIAN
BEGIN:VEVENT
UID:15c266fc-d6f1-11f0-836b-0a58a9feac02
DTSTAMP:20260424T115508Z
SUMMARY:C Boys Basketball VS Cashmere
URL;VALUE=URI:https://www.wenatcheeschools.org/whs/athletics/calendar/88226
 16/c-boys-basketball-vs-cashmere
DTSTART:20260109T003000Z
DTEND:20260109T013000Z
END:VEVENT
END:VCALENDAR
