BEGIN:VCALENDAR
VERSION:2.0
PRODID:SchoolNow
CALSCALE:GREGORIAN
BEGIN:VEVENT
UID:15c2680a-d6f1-11f0-ad4b-0a58a9feac02
DTSTAMP:20260424T115508Z
SUMMARY:JV/V Boys Wrestling @ AC Davis
URL;VALUE=URI:https://www.wenatcheeschools.org/whs/athletics/calendar/88226
 17/jv-v-boys-wrestling-ac-davis
DTSTART:20260109T020000Z
DTEND:20260109T050000Z
END:VEVENT
END:VCALENDAR
