BEGIN:VCALENDAR
VERSION:2.0
PRODID:SchoolNow
CALSCALE:GREGORIAN
BEGIN:VEVENT
UID:15c2694a-d6f1-11f0-8bc0-0a58a9feac02
DTSTAMP:20260424T115508Z
SUMMARY:C/JV/V Girls Basketball @ Eisenhower
URL;VALUE=URI:https://www.wenatcheeschools.org/whs/athletics/calendar/88226
 18/c-jv-v-girls-basketball-eisenhower
DTSTART:20260110T000000Z
DTEND:20260110T043000Z
END:VEVENT
END:VCALENDAR
